BEGIN:VCALENDAR
VERSION:2.0
PRODID:-//Jeff Belanger - ECPv6.15.20//NONSGML v1.0//EN
CALSCALE:GREGORIAN
METHOD:PUBLISH
X-ORIGINAL-URL:https://jeffbelanger.com
X-WR-CALDESC:Events for Jeff Belanger
REFRESH-INTERVAL;VALUE=DURATION:PT1H
X-Robots-Tag:noindex
X-PUBLISHED-TTL:PT1H
BEGIN:VTIMEZONE
TZID:America/New_York
BEGIN:DAYLIGHT
TZOFFSETFROM:-0500
TZOFFSETTO:-0400
TZNAME:EDT
DTSTART:20260308T070000
END:DAYLIGHT
BEGIN:STANDARD
TZOFFSETFROM:-0400
TZOFFSETTO:-0500
TZNAME:EST
DTSTART:20261101T060000
END:STANDARD
BEGIN:DAYLIGHT
TZOFFSETFROM:-0500
TZOFFSETTO:-0400
TZNAME:EDT
DTSTART:20270314T070000
END:DAYLIGHT
BEGIN:STANDARD
TZOFFSETFROM:-0400
TZOFFSETTO:-0500
TZNAME:EST
DTSTART:20271107T060000
END:STANDARD
BEGIN:DAYLIGHT
TZOFFSETFROM:-0500
TZOFFSETTO:-0400
TZNAME:EDT
DTSTART:20280312T070000
END:DAYLIGHT
BEGIN:STANDARD
TZOFFSETFROM:-0400
TZOFFSETTO:-0500
TZNAME:EST
DTSTART:20281105T060000
END:STANDARD
END:VTIMEZONE
BEGIN:VEVENT
DTSTART;VALUE=DATE:20270205
DTEND;VALUE=DATE:20270207
DTSTAMP:20260419T112535
CREATED:20260416T135941Z
LAST-MODIFIED:20260416T140942Z
UID:11801-1801785600-1801958399@jeffbelanger.com
SUMMARY:Krampus America Convention 2027
DESCRIPTION:Following the incredible success of their inaugural gathering\, we’re excited to announce that the next Krampus America Convention will take place on February 5 & 6\, 2027 in St. Petersburg\, Florida\, hosted by Krampus Verein Pinellas. \nGet ready for two days of unforgettable performances\, workshops\, vendors\, and Krampus community connections — now reaching the East Coast of the United States. \nThe Krampus America Convention\, hosted by Krampus Verein Pinellas County\, is heading to St. Petersburg\, Florida bringing winter folklore\, creativity\, and community to the Florida Gulf Coast. This East Coast gathering brings together Krampus performers\, artists\, makers\, and fans from across the country for a lively weekend of stunning costumes\, live performances\, hands-on workshops\, unique vendors\, and unforgettable experiences. It’s a bold blend of old-world tradition and modern spectacle—set against palm trees\, sunshine\, and a city that knows how to celebrate. \nPurchase tickets: https://www.eventeny.com/events/krampusamericaconvention2027-26290/  \nMoxy Hotel discount: https://tinyurl.com/mc42cw3c  \nTru Hotel Discount: https://group.trubyhilton.com/5odc36
URL:https://jeffbelanger.com/event/krampus-america-convention-2027/
LOCATION:Coastal Creative\, 2201 1st Ave S\, St. Petersburg\, FL\, 33712\, United States
ATTACH;FMTTYPE=image/jpeg:https://jeffbelanger.com/wp-content/uploads/2026/04/krampus-america.jpg
END:VEVENT
END:VCALENDAR