BEGIN:VCALENDAR
VERSION:2.0
PRODID:-//Jeff Belanger - ECPv6.15.20//NONSGML v1.0//EN
CALSCALE:GREGORIAN
METHOD:PUBLISH
X-ORIGINAL-URL:https://jeffbelanger.com
X-WR-CALDESC:Events for Jeff Belanger
REFRESH-INTERVAL;VALUE=DURATION:PT1H
X-Robots-Tag:noindex
X-PUBLISHED-TTL:PT1H
BEGIN:VTIMEZONE
TZID:America/New_York
BEGIN:DAYLIGHT
TZOFFSETFROM:-0500
TZOFFSETTO:-0400
TZNAME:EDT
DTSTART:20250309T070000
END:DAYLIGHT
BEGIN:STANDARD
TZOFFSETFROM:-0400
TZOFFSETTO:-0500
TZNAME:EST
DTSTART:20251102T060000
END:STANDARD
BEGIN:DAYLIGHT
TZOFFSETFROM:-0500
TZOFFSETTO:-0400
TZNAME:EDT
DTSTART:20260308T070000
END:DAYLIGHT
BEGIN:STANDARD
TZOFFSETFROM:-0400
TZOFFSETTO:-0500
TZNAME:EST
DTSTART:20261101T060000
END:STANDARD
BEGIN:DAYLIGHT
TZOFFSETFROM:-0500
TZOFFSETTO:-0400
TZNAME:EDT
DTSTART:20270314T070000
END:DAYLIGHT
BEGIN:STANDARD
TZOFFSETFROM:-0400
TZOFFSETTO:-0500
TZNAME:EST
DTSTART:20271107T060000
END:STANDARD
END:VTIMEZONE
BEGIN:VEVENT
DTSTART;TZID=America/New_York:20260722T180000
DTEND;TZID=America/New_York:20260722T200000
DTSTAMP:20260424T224858
CREATED:20260123T180948Z
LAST-MODIFIED:20260123T180948Z
UID:11590-1784743200-1784750400@jeffbelanger.com
SUMMARY:Cemetery Safari with Jeff Belanger at the Millbury Public Library
DESCRIPTION:This program is a MUST SEE for anyone who ever plans to die! In a Cemetery Safari\, Jeff Belanger takes you on a journey from the oldest burial rituals up through modern times. We explore funerary art throughout the ages\, see funny and memorable epitaphs\, funeral customs\, cemetery oddities\, and throw in the stories behind a few haunted boneyards for good measure. The program is funny\, entertaining\, and uplifting! \nThe program\, meet and greet\, and book signing event is free and open to the public\, but please contact the venue as reservations may be required.
URL:https://jeffbelanger.com/event/cemetery-safari-with-jeff-belanger-at-the-millbury-public-library/
LOCATION:Millbury Public Library\, 128 Elm Street\, Millbury\, MA\, 01527\, United States
END:VEVENT
BEGIN:VEVENT
DTSTART;TZID=America/New_York:20261014T180000
DTEND;TZID=America/New_York:20261014T200000
DTSTAMP:20260424T224858
CREATED:20251112T155547Z
LAST-MODIFIED:20251112T155547Z
UID:11225-1792000800-1792008000@jeffbelanger.com
SUMMARY:Ghosts and Legends with Jeff Belanger at the Millbury Public Library
DESCRIPTION:Back with new stories for 2026! This ghostly multi-media program will take you on a journey through the haunts in your backyard\, and around the world. Pulling from Jeff’s 30 years of research for his books\, podcasts\, adventures\, and the various television shows he’s worked on\, join one of the nation’s premiere storytellers for a trip through the unusual and the unexplained. \nPlease contact the venue as reservations may be required. Please note this event will take place under the tent at the Asa Waters Mansion directly across the street from the Millbury Public Library.
URL:https://jeffbelanger.com/event/ghosts-and-legends-with-jeff-belanger-at-the-millbury-public-library-2/
LOCATION:Asa Waters Mansion\, 123 Main Street\, Millbury\, MA\, 01527\, United States
END:VEVENT
END:VCALENDAR