BEGIN:VCALENDAR
VERSION:2.0
PRODID:-//Jeff Belanger - ECPv6.15.20//NONSGML v1.0//EN
CALSCALE:GREGORIAN
METHOD:PUBLISH
X-ORIGINAL-URL:https://jeffbelanger.com
X-WR-CALDESC:Events for Jeff Belanger
REFRESH-INTERVAL;VALUE=DURATION:PT1H
X-Robots-Tag:noindex
X-PUBLISHED-TTL:PT1H
BEGIN:VTIMEZONE
TZID:America/New_York
BEGIN:DAYLIGHT
TZOFFSETFROM:-0500
TZOFFSETTO:-0400
TZNAME:EDT
DTSTART:20250309T070000
END:DAYLIGHT
BEGIN:STANDARD
TZOFFSETFROM:-0400
TZOFFSETTO:-0500
TZNAME:EST
DTSTART:20251102T060000
END:STANDARD
BEGIN:DAYLIGHT
TZOFFSETFROM:-0500
TZOFFSETTO:-0400
TZNAME:EDT
DTSTART:20260308T070000
END:DAYLIGHT
BEGIN:STANDARD
TZOFFSETFROM:-0400
TZOFFSETTO:-0500
TZNAME:EST
DTSTART:20261101T060000
END:STANDARD
BEGIN:DAYLIGHT
TZOFFSETFROM:-0500
TZOFFSETTO:-0400
TZNAME:EDT
DTSTART:20270314T070000
END:DAYLIGHT
BEGIN:STANDARD
TZOFFSETFROM:-0400
TZOFFSETTO:-0500
TZNAME:EST
DTSTART:20271107T060000
END:STANDARD
BEGIN:DAYLIGHT
TZOFFSETFROM:-0500
TZOFFSETTO:-0400
TZNAME:EDT
DTSTART:20280312T070000
END:DAYLIGHT
BEGIN:STANDARD
TZOFFSETFROM:-0400
TZOFFSETTO:-0500
TZNAME:EST
DTSTART:20281105T060000
END:STANDARD
END:VTIMEZONE
BEGIN:VEVENT
DTSTART;TZID=America/New_York:20260725T140000
DTEND;TZID=America/New_York:20260725T160000
DTSTAMP:20260422T064638
CREATED:20260204T200225Z
LAST-MODIFIED:20260204T200225Z
UID:11623-1784988000-1784995200@jeffbelanger.com
SUMMARY:Dead of Winter with Jeff Belanger at the Ashaway Free Library
DESCRIPTION:Ready to put a chill into the coldest winter’s day? This program explores the haunts\, legends\, and monsters associated with winter. From frozen people to abominable snow beasts\, from icy haunts to strange creatures who adapt to freezing temperatures\, the Dead of Winter will give you something to shiver about. \nPlease contact the library as reservations may be required.
URL:https://jeffbelanger.com/event/dead-of-winter-with-jeff-belanger-at-the-ashaway-free-library/
LOCATION:Ashaway Free Library\, 15 Knight Street\, Ashaway\, RI\, 02804\, United States
END:VEVENT
BEGIN:VEVENT
DTSTART;TZID=America/New_York:20270114T180000
DTEND;TZID=America/New_York:20270114T193000
DTSTAMP:20260422T064638
CREATED:20260108T214708Z
LAST-MODIFIED:20260108T214708Z
UID:11565-1799949600-1799955000@jeffbelanger.com
SUMMARY:The Dead of Winter with Jeff Belanger at the Fall River Public Library
DESCRIPTION:Ready to put a chill into the coldest winter’s day? This program explores the haunts\, legends\, and monsters associated with winter. From frozen people to abominable snow beasts\, from icy haunts to strange creatures who adapt to freezing temperatures\, the Dead of Winter will give you something to shiver about. \nThe event is free and open to the public\, but please contact the library as reservations may be required.
URL:https://jeffbelanger.com/event/the-dead-of-winter-with-jeff-belanger-at-the-fall-river-public-library/
LOCATION:Fall River Public Library\, 104 N Main St\, Fall River\, MA\, 02720\, United States
END:VEVENT
END:VCALENDAR