BEGIN:VCALENDAR
VERSION:2.0
PRODID:-//Jeff Belanger - ECPv6.15.20//NONSGML v1.0//EN
CALSCALE:GREGORIAN
METHOD:PUBLISH
X-ORIGINAL-URL:https://jeffbelanger.com
X-WR-CALDESC:Events for Jeff Belanger
REFRESH-INTERVAL;VALUE=DURATION:PT1H
X-Robots-Tag:noindex
X-PUBLISHED-TTL:PT1H
BEGIN:VTIMEZONE
TZID:America/New_York
BEGIN:DAYLIGHT
TZOFFSETFROM:-0500
TZOFFSETTO:-0400
TZNAME:EDT
DTSTART:20250309T070000
END:DAYLIGHT
BEGIN:STANDARD
TZOFFSETFROM:-0400
TZOFFSETTO:-0500
TZNAME:EST
DTSTART:20251102T060000
END:STANDARD
BEGIN:DAYLIGHT
TZOFFSETFROM:-0500
TZOFFSETTO:-0400
TZNAME:EDT
DTSTART:20260308T070000
END:DAYLIGHT
BEGIN:STANDARD
TZOFFSETFROM:-0400
TZOFFSETTO:-0500
TZNAME:EST
DTSTART:20261101T060000
END:STANDARD
BEGIN:DAYLIGHT
TZOFFSETFROM:-0500
TZOFFSETTO:-0400
TZNAME:EDT
DTSTART:20270314T070000
END:DAYLIGHT
BEGIN:STANDARD
TZOFFSETFROM:-0400
TZOFFSETTO:-0500
TZNAME:EST
DTSTART:20271107T060000
END:STANDARD
END:VTIMEZONE
BEGIN:VEVENT
DTSTART;TZID=America/New_York:20261024T140000
DTEND;TZID=America/New_York:20261024T160000
DTSTAMP:20260422T154347
CREATED:20260416T152243Z
LAST-MODIFIED:20260416T152243Z
UID:11816-1792850400-1792857600@jeffbelanger.com
SUMMARY:Ghosts and Legends with Jeff Belanger at the Dartmouth Library
DESCRIPTION:Back with new stories for 2026! This ghostly multi-media program will take you on a journey through the haunts in your backyard\, and around the world. Pulling from Jeff’s 30 years of research for his books\, podcasts\, adventures\, and the various television shows he’s worked on\, join one of the nation’s premiere storytellers for a trip through the unusual and the unexplained. \nPlease contact the venue as reservations may be required.
URL:https://jeffbelanger.com/event/ghosts-and-legends-with-jeff-belanger-at-the-dartmouth-library/
LOCATION:Dartmouth Library\, 732 Dartmouth Street\, Dartmouth\, MA\, 02748\, United States
END:VEVENT
END:VCALENDAR